BEGIN:VCALENDAR
VERSION:2.0
PRODID:-//jEvents 2.0 for Joomla//EN
CALSCALE:GREGORIAN
METHOD:PUBLISH
BEGIN:VTIMEZONE
TZID:Asia/Kuala_Lumpur
BEGIN:STANDARD
DTSTART:20180610T100000
RDATE:20380119T111407
TZOFFSETFROM:+0800
TZOFFSETTO:+0800
TZNAME:Asia/Kuala_Lumpur +08
END:STANDARD
END:VTIMEZONE
BEGIN:VEVENT
UID:7e32b3805ef10ac99182c58188509ae8
CATEGORIES:Oil & Gas
SUMMARY:Global Petroleum Show (GPS) 2019
LOCATION:Stampede Park Calgary, Canada
DESCRIPTION;ENCODING=QUOTED-PRINTABLE:\n\n\n\n\nGlobal Petroleum Show (GPS) is North America’s Leading Exhibition
  & Conference, where oil and gas professionals convene to engage in dialogu
 e, create partnerships, do business and identify the solutions and strategi
 es that will shape the industry for the years ahead.\n\n\n \n\n\nGPS has gr
 own exponentially to become the global meeting point for oil and gas profes
 sionals. Today, over $6 billion of business is concluded during the exhibit
 ion, placing GPS at the very heart of international business of the global 
 energy sector. Over 50,000 trade professionals attend GPS, while 100+ indus
 try leading experts share their knowledge and understanding across the even
 t’s expansive line-up of strategic and technical conference sessions.\n
CONTACT:FREE MAP DISTRIBUTION
X-EXTRAINFO:https://globalpetroleumshow.com/
DTSTAMP:20260421T083022Z
DTSTART;TZID=Asia/Kuala_Lumpur:20190611T100000
DTEND;TZID=Asia/Kuala_Lumpur:20190613T180000
SEQUENCE:0
TRANSP:OPAQUE
END:VEVENT
END:VCALENDAR