BEGIN:VCALENDAR
VERSION:2.0
PRODID:-//jEvents 2.0 for Joomla//EN
CALSCALE:GREGORIAN
METHOD:PUBLISH
BEGIN:VTIMEZONE
TZID:Asia/Kuala_Lumpur
BEGIN:STANDARD
DTSTART:20171007T080000
RDATE:20380119T111407
TZOFFSETFROM:+0800
TZOFFSETTO:+0800
TZNAME:Asia/Kuala_Lumpur +08
END:STANDARD
END:VTIMEZONE
BEGIN:VEVENT
UID:8a6ead08444a890f638c7cb7a50f1bd5
CATEGORIES:Oil & Gas
SUMMARY:Production Sharing Contracts and International Petroleum Fiscal Systems, London 2018
DESCRIPTION;ENCODING=QUOTED-PRINTABLE:\n\n\nOrganising Company : The Conference Connection Inc\nEvent Name : Prod
 uction Sharing Contracts & International Petroleum Fiscal Systems\nLondon\n
 Start date of the event : 8 October 2018\nEnd date of the event : 12 Octobe
 r 2018\nEvent Country : UK\nEvent City : London\nEvent Venue : Novotel Lond
 on West\nHouston\nStart date of the event : 3 December 2018\nEnd date of th
 e event : 7 December 2018\nEvent Country : Houston\nEvent City : USA\nEvent
  Venue : Hyatt Place\nEvent URL : www.cconnection.org/events/PSCModule1n2\n
 Contact person's name : Shaman Mulchand\nContact person's email : This emai
 l address is being protected from spambots. You need JavaScript enabled to 
 view it.
 //
 \nContact No : 65-63380064\n
DTSTAMP:20260421T083809Z
DTSTART;TZID=Asia/Kuala_Lumpur:20181008T080000
DTEND;TZID=Asia/Kuala_Lumpur:20181012T170000
SEQUENCE:0
TRANSP:OPAQUE
END:VEVENT
END:VCALENDAR