BEGIN:VCALENDAR
VERSION:2.0
PRODID:-//jEvents 2.0 for Joomla//EN
CALSCALE:GREGORIAN
METHOD:PUBLISH
BEGIN:VTIMEZONE
TZID:Asia/Kuala_Lumpur
BEGIN:STANDARD
DTSTART:20180305T080000
RDATE:20380119T111407
TZOFFSETFROM:+0800
TZOFFSETTO:+0800
TZNAME:Asia/Kuala_Lumpur +08
END:STANDARD
END:VTIMEZONE
BEGIN:VEVENT
UID:512ed50fcfdf9d2c11a9bbc5c8672c8c
CATEGORIES:Oil & Gas
SUMMARY:LNGA 2019 -14th LNG Supplies for Asian Markets 2019
LOCATION:Singapore
DESCRIPTION;ENCODING=QUOTED-PRINTABLE:Conference Connection is pleased to announce the 14th LNG Supplies for Asia
 n Markets 2019 (LNGA 2019) which will be held in Singapore from 6-7 March 2
 019 (conference).  Held annually and now in its 14th year, the Official Ope
 ning and Ministerial Address for the conference is expected to be delivered
  by Mr Chan Chun Sing, Minister for Trade and Industry, Singapore. The Keyn
 ote Address is currently scheduled on 6th March 2019.\nFollowing the succes
 s of LNGA 2005–2018 which attracted over 3,000 participants from 60 countri
 es worldwide covering varied sectors of the Gas/LNG industry, this conferen
 ce will provide continuing insights into the challenges and opportunities f
 or the LNG industry over the next decade with an emphasis\n\n\non the Asian
  markets, which accounts for over 75% of global imports. Open the LNGA 2018
  Post Conference Report here at www.lng-conference.com.   \n\n\n\nConferenc
 e Connection Pte Ltd\n Tel: (65) 6338 0064\n\n\nEmail: This email address i
 s being protected from spambots. You need JavaScript enabled to view it.
 /
 /
 \n URL:  www.lng-conference.com \n
CONTACT:FREE MAP DISTRIBUTION
X-EXTRAINFO:http://www.lng-conference.com/
DTSTAMP:20260421T072409Z
DTSTART;TZID=Asia/Kuala_Lumpur:20190306T080000
DTEND;TZID=Asia/Kuala_Lumpur:20190307T170000
SEQUENCE:0
TRANSP:OPAQUE
END:VEVENT
END:VCALENDAR