BEGIN:VCALENDAR
VERSION:2.0
PRODID:-//jEvents 2.0 for Joomla//EN
CALSCALE:GREGORIAN
METHOD:PUBLISH
BEGIN:VTIMEZONE
TZID:Asia/Kuala_Lumpur
BEGIN:STANDARD
DTSTART:20171126T080000
RDATE:20380119T111407
TZOFFSETFROM:+0800
TZOFFSETTO:+0800
TZNAME:Asia/Kuala_Lumpur +08
END:STANDARD
END:VTIMEZONE
BEGIN:VEVENT
UID:964a5ed42d3d46ad13b6149cc6c40110
CATEGORIES:Oil & Gas
SUMMARY:The CWC 19th Annual World LNG Summit & Awards Evening
LOCATION:Lisbon, Portugal
DESCRIPTION;ENCODING=QUOTED-PRINTABLE:Announcing the Programme for the End-of-Year LNG Meeting in LisbonThe CWC W
 orld LNG Summit & Awards Evening is recognised as the premier end of year g
 athering for the global LNG industry. Now in its 19th year, the Summit retu
 rns to the vibrant city of Lisbon, Portugal on 27 – 30 November 2018.\n\nTh
 e CWC World LNG Summit will continue to give you access to premium networki
 ng opportunities as it brings together the who’s who of the global LNG indu
 stry for 4 days of unparalleled networking and intensive discussion. \n\n\n
 Take a look at the Summit Programme for the latest speaker lineup and a det
 ailed day-to-day breakdown of what will take place at the CWC World LNG Sum
 mit this November.\n
CONTACT:FREE MAP DISTRIBUTION
X-EXTRAINFO:https://world.cwclng.com/
DTSTAMP:20260421T083607Z
DTSTART;TZID=Asia/Kuala_Lumpur:20181127T080000
DTEND;TZID=Asia/Kuala_Lumpur:20181130T170000
SEQUENCE:0
TRANSP:OPAQUE
END:VEVENT
END:VCALENDAR