BEGIN:VCALENDAR
VERSION:2.0
PRODID:-//jEvents 2.0 for Joomla//EN
CALSCALE:GREGORIAN
METHOD:PUBLISH
BEGIN:VTIMEZONE
TZID:Asia/Kuala_Lumpur
BEGIN:STANDARD
DTSTART:20171015T080000
RDATE:20380119T111407
TZOFFSETFROM:+0800
TZOFFSETTO:+0800
TZNAME:Asia/Kuala_Lumpur +08
END:STANDARD
END:VTIMEZONE
BEGIN:VEVENT
UID:6a3b097dda54aafe030889b017e34582
CATEGORIES:Oil & Gas
SUMMARY: 10th CWC World LNG & Gas Series: Asia Pacific Summit
LOCATION:Singapore
DESCRIPTION;ENCODING=QUOTED-PRINTABLE:<p><strong>Gathering established and emerging LNG & Gas Buyers in Asia Paci
 fic for 10 Years</strong></p><p>Now in its tenth year, CWC World LNG & Gas 
 Series: Asia Pacific Summit returns to Singapore on 16 – 18 October 2018 as
  the most established and highly-regarded LNG Summit in Asia Pacific. Bring
 ing together the key LNG buyers and sellers from across the globe, the Summ
 it provides the perfect platform to network and do deals with key decision 
 makers.</p>
CONTACT:FREE MAP DISTRIBUTION
X-EXTRAINFO:https://asiapacific.cwclng.com/
DTSTAMP:20260421T083926Z
DTSTART;TZID=Asia/Kuala_Lumpur:20181016T080000
DTEND;TZID=Asia/Kuala_Lumpur:20181018T170000
SEQUENCE:0
TRANSP:OPAQUE
END:VEVENT
END:VCALENDAR