BEGIN:VCALENDAR
VERSION:2.0
PRODID:-//jEvents 2.0 for Joomla//EN
CALSCALE:GREGORIAN
METHOD:PUBLISH
BEGIN:VTIMEZONE
TZID:Asia/Kuala_Lumpur
BEGIN:STANDARD
DTSTART:20180408T080000
RDATE:20380119T111407
TZOFFSETFROM:+0800
TZOFFSETTO:+0800
TZNAME:Asia/Kuala_Lumpur +08
END:STANDARD
END:VTIMEZONE
BEGIN:VEVENT
UID:e56768498ccf290bcde1b410f32ebfb4
CATEGORIES:Oil & Gas
SUMMARY:The New Kuwait Summit
LOCATION:Kuwait
DESCRIPTION;ENCODING=QUOTED-PRINTABLE:<p>The New Kuwait Summit will provide Kuwait with a global platform and win
 dow to the world to attract insightful debate and information into the seve
 n pillars identified by the Kuwait National Development Plan. New Kuwait Su
 mmit will be organised to allow international and domestic companies to net
 work, engage and create partnerships.</p>
DTSTAMP:20260421T072541Z
DTSTART;TZID=Asia/Kuala_Lumpur:20190409T080000
DTEND;TZID=Asia/Kuala_Lumpur:20190410T170000
SEQUENCE:0
TRANSP:OPAQUE
END:VEVENT
END:VCALENDAR