BEGIN:VCALENDAR
VERSION:2.0
PRODID:-//jEvents 2.0 for Joomla//EN
CALSCALE:GREGORIAN
METHOD:PUBLISH
BEGIN:VTIMEZONE
TZID:Asia/Kuala_Lumpur
BEGIN:STANDARD
DTSTART:20171210T080000
RDATE:20380119T111407
TZOFFSETFROM:+0800
TZOFFSETTO:+0800
TZNAME:Asia/Kuala_Lumpur +08
END:STANDARD
END:VTIMEZONE
BEGIN:VEVENT
UID:6a6b982dfc27e42a937cc4889aef370a
CATEGORIES:Oil & Gas
SUMMARY:The 2nd Energy Digitalisation Summit Middle East
LOCATION:Dubai
DESCRIPTION;ENCODING=QUOTED-PRINTABLE:<p>As the first digital transformation, IoT and big data conference targete
 d specifically at the oil and gas industry, EDS ME delivers exclusive case 
 studies, panel sessions and detailed evaluations on cutting-edge technologi
 es and best practice across the sector.</p>
X-EXTRAINFO:http://me.ed-summit.com/
DTSTAMP:20260421T083932Z
DTSTART;TZID=Asia/Kuala_Lumpur:20181211T080000
DTEND;TZID=Asia/Kuala_Lumpur:20181212T170000
SEQUENCE:0
TRANSP:OPAQUE
END:VEVENT
END:VCALENDAR