BEGIN:VCALENDAR
VERSION:2.0
PRODID:-//jEvents 2.0 for Joomla//EN
CALSCALE:GREGORIAN
METHOD:PUBLISH
BEGIN:VTIMEZONE
TZID:Asia/Kuala_Lumpur
BEGIN:STANDARD
DTSTART:20140601T000000
RDATE:20380119T111407
TZOFFSETFROM:+0800
TZOFFSETTO:+0800
TZNAME:Asia/Kuala_Lumpur +08
END:STANDARD
END:VTIMEZONE
BEGIN:VEVENT
UID:0423c3d806b75174b5cef598a5348306
CATEGORIES:Oil & Gas
SUMMARY:OGA 2015
LOCATION:KLCC, Malaysia
DESCRIPTION;ENCODING=QUOTED-PRINTABLE:\n\nOGA 2015 will take place in Malaysia’s state-of-the art Kuala Lumpur Co
 nvention Centre on the 2 – 4 June 2015.\nThe 15th Asian Oil, Gas & Petroche
 mical Engineering Exhibition of its kind, the\nOGA series is one of the big
 gest and most highly anticipated biennial events in the Asian region with a
 n expectation of over 30,000 local & international attendees and 20000 sqm 
 of exhibition space.\nWith over 2000 participating companies from more than
  50 countries, OGA 2015 plays a pivotal role in creating opportunities for 
 Oil &Gas stakeholders by attracting key industry experts and decision maker
 s from major Oil and Gas companies across the globe........find out more\n
CONTACT:FREE MAP DISTRIBUTION
X-EXTRAINFO:http://www.oilandgas-asia.com
DTSTAMP:20260421T143819Z
DTSTART;TZID=Asia/Kuala_Lumpur;VALUE=DATE:20150602
DTEND;TZID=Asia/Kuala_Lumpur;VALUE=DATE:20150605
SEQUENCE:0
TRANSP:OPAQUE
END:VEVENT
END:VCALENDAR