BEGIN:VCALENDAR
VERSION:2.0
PRODID:-//jEvents 2.0 for Joomla//EN
CALSCALE:GREGORIAN
METHOD:PUBLISH
BEGIN:VTIMEZONE
TZID:Asia/Kuala_Lumpur
BEGIN:STANDARD
DTSTART:20171209T080000
RDATE:20380119T111407
TZOFFSETFROM:+0800
TZOFFSETTO:+0800
TZNAME:Asia/Kuala_Lumpur +08
END:STANDARD
END:VTIMEZONE
BEGIN:VEVENT
UID:32aa8d59863477b1aac5383ce09e239b
CATEGORIES:Oil & Gas
SUMMARY:The 4th Jordan International Energy Summit
LOCATION:Amman, Jordan
DESCRIPTION;ENCODING=QUOTED-PRINTABLE:<p>JIES 2018 is hosted under the patronage of The Ministry of Energy & Mine
 ral Resources, Jordan. This prestigious event will once again provide a pla
 tform for the world’s energy professionals and local governments to engage 
 with international and local investors, to examine and understand the huge 
 opportunities for the future of Jordan’s energy mix.</p>
X-EXTRAINFO:http://jies-summit.com/
DTSTAMP:20260421T083926Z
DTSTART;TZID=Asia/Kuala_Lumpur:20181210T080000
DTEND;TZID=Asia/Kuala_Lumpur:20181211T170000
SEQUENCE:0
TRANSP:OPAQUE
END:VEVENT
END:VCALENDAR