BEGIN:VCALENDAR
VERSION:2.0
PRODID:-//jEvents 2.0 for Joomla//EN
CALSCALE:GREGORIAN
METHOD:PUBLISH
BEGIN:VTIMEZONE
TZID:Asia/Kuala_Lumpur
BEGIN:STANDARD
DTSTART:20171113T080000
RDATE:20380119T111407
TZOFFSETFROM:+0800
TZOFFSETTO:+0800
TZNAME:Asia/Kuala_Lumpur +08
END:STANDARD
END:VTIMEZONE
BEGIN:VEVENT
UID:0b585db76c207aeb47039d8cb5c2dbac
CATEGORIES:Oil & Gas
SUMMARY:Americas Gas Summit
LOCATION:Panama
DESCRIPTION;ENCODING=QUOTED-PRINTABLE:<p>The Americas Gas Summit (AGS 2018) will bring ministers of energy, hydro
 carbon agencies, gas regulators, NOCs and NGCs together with credible local
 , regional and international participants to reinforce gas development and 
 highlight the opportunities for investment and development of the Americas 
 gas markets.</p>
X-EXTRAINFO:http://americas-gas.com/
DTSTAMP:20260421T083425Z
DTSTART;TZID=Asia/Kuala_Lumpur:20181114T080000
DTEND;TZID=Asia/Kuala_Lumpur:20181116T170000
SEQUENCE:0
TRANSP:OPAQUE
END:VEVENT
END:VCALENDAR