BEGIN:VCALENDAR
VERSION:2.0
PRODID:-//jEvents 2.0 for Joomla//EN
CALSCALE:GREGORIAN
METHOD:PUBLISH
BEGIN:VTIMEZONE
TZID:Asia/Kuala_Lumpur
BEGIN:STANDARD
DTSTART:20171113T080000
RDATE:20380119T111407
TZOFFSETFROM:+0800
TZOFFSETTO:+0800
TZNAME:Asia/Kuala_Lumpur +08
END:STANDARD
END:VTIMEZONE
BEGIN:VEVENT
UID:3215e618c32de9747171a5c12f9f426e
CATEGORIES:Oil & Gas
SUMMARY:Powering Latin America and The Caribbean
LOCATION:Panama
DESCRIPTION;ENCODING=QUOTED-PRINTABLE:<p>Co-locating alongside AGS:2018, will be Powering Latin America and The C
 aribbean (PLAC:2018). PLAC will address energy trends with focus on new tec
 hnologies, energy efficiency, regional integration and reduction of CO2 emi
 ssions.</p>
X-EXTRAINFO:http://lac-power.com/
DTSTAMP:20260421T083927Z
DTSTART;TZID=Asia/Kuala_Lumpur:20181114T080000
DTEND;TZID=Asia/Kuala_Lumpur:20181116T170000
SEQUENCE:0
TRANSP:OPAQUE
END:VEVENT
END:VCALENDAR