BEGIN:VCALENDAR
VERSION:2.0
PRODID:-//jEvents 2.0 for Joomla//EN
CALSCALE:GREGORIAN
METHOD:PUBLISH
BEGIN:VTIMEZONE
TZID:Asia/Kuala_Lumpur
BEGIN:STANDARD
DTSTART:20171203T080000
RDATE:20380119T111407
TZOFFSETFROM:+0800
TZOFFSETTO:+0800
TZNAME:Asia/Kuala_Lumpur +08
END:STANDARD
END:VTIMEZONE
BEGIN:VEVENT
UID:13d27476966fcf6fe740eb8239987b34
CATEGORIES:Oil & Gas
SUMMARY:2nd Cuba Energy, Oil and Gas Conference
LOCATION:Melia Cohiba Hotel, Havana, Cuba
DESCRIPTION;ENCODING=QUOTED-PRINTABLE:\n\nCuba Energy 2018 will provide a platform for the whole value chain, fro
 m hosts La Union Cuba Petroleo (CUPET) downwards to share ideas, develop bu
 siness and forge partnerships.\n
X-EXTRAINFO:http://cuba-energy.com/
DTSTAMP:20260421T083819Z
DTSTART;TZID=Asia/Kuala_Lumpur:20181204T080000
DTEND;TZID=Asia/Kuala_Lumpur:20181207T170000
SEQUENCE:0
TRANSP:OPAQUE
END:VEVENT
END:VCALENDAR