BEGIN:VCALENDAR
VERSION:2.0
PRODID:-//jEvents 2.0 for Joomla//EN
CALSCALE:GREGORIAN
METHOD:PUBLISH
BEGIN:VTIMEZONE
TZID:Asia/Kuala_Lumpur
BEGIN:STANDARD
DTSTART:20171029T080000
RDATE:20380119T111407
TZOFFSETFROM:+0800
TZOFFSETTO:+0800
TZNAME:Asia/Kuala_Lumpur +08
END:STANDARD
END:VTIMEZONE
BEGIN:VEVENT
UID:28364e4bec4d63d4ba2e0e3aa494dbef
CATEGORIES:Oil & Gas
SUMMARY:DLO Africa Power Roundtable
LOCATION:London
DESCRIPTION;ENCODING=QUOTED-PRINTABLE:<p>The DLO Africa Power Roundtable is a platform that hosts various gatheri
 ngs of government, key investors and stakeholders in Africa’s energy sector
  with the objective of encouraging investment. With the growing interest of
  foreign investors in the growth potential of Africa’s power sector DLO Afr
 ica Power Roundtable will hold its inaugural meeting outside of the African
  continent. </p>
X-EXTRAINFO:http://www.africapowerroundtable.co.za/default.php
DTSTAMP:20260421T084341Z
DTSTART;TZID=Asia/Kuala_Lumpur:20181030T080000
DTEND;TZID=Asia/Kuala_Lumpur:20181031T170000
SEQUENCE:0
TRANSP:OPAQUE
END:VEVENT
END:VCALENDAR