BEGIN:VCALENDAR
VERSION:2.0
PRODID:-//jEvents 2.0 for Joomla//EN
CALSCALE:GREGORIAN
METHOD:PUBLISH
BEGIN:VTIMEZONE
TZID:Asia/Kuala_Lumpur
BEGIN:STANDARD
DTSTART:20171105T080000
RDATE:20380119T111407
TZOFFSETFROM:+0800
TZOFFSETTO:+0800
TZNAME:Asia/Kuala_Lumpur +08
END:STANDARD
END:VTIMEZONE
BEGIN:VEVENT
UID:753b0b50107fc223c5e1d4d252b8dc11
CATEGORIES:Oil & Gas
SUMMARY:2nd Project East Africa Summit
LOCATION:Kampala Serena Hotel, Uganda
DESCRIPTION;ENCODING=QUOTED-PRINTABLE:<p>Launched in partnership and under the endorsement of the Ministry of Wor
 ks & Transport, Uganda and co-hosted by the East African Chamber of Commerc
 e, Industry and Agriculture, Project East Africa returns to the region, as 
 the platform for leading decision makers to engage with international and l
 ocal investors and showcase the abundance of infrastructure opportunities a
 vailable throughout East Africa.</p>
X-EXTRAINFO:http://projecteastafrica.com/
DTSTAMP:20260421T084341Z
DTSTART;TZID=Asia/Kuala_Lumpur:20181106T080000
DTEND;TZID=Asia/Kuala_Lumpur:20181107T170000
SEQUENCE:0
TRANSP:OPAQUE
END:VEVENT
END:VCALENDAR