BEGIN:VCALENDAR
VERSION:2.0
PRODID:-//jEvents 2.0 for Joomla//EN
CALSCALE:GREGORIAN
METHOD:PUBLISH
BEGIN:VTIMEZONE
TZID:Asia/Kuala_Lumpur
BEGIN:STANDARD
DTSTART:20170918T080000
RDATE:20380119T111407
TZOFFSETFROM:+0800
TZOFFSETTO:+0800
TZNAME:Asia/Kuala_Lumpur +08
END:STANDARD
END:VTIMEZONE
BEGIN:VEVENT
UID:53d22811c2f407086e1105e8a4ea26a7
CATEGORIES:Oil & Gas
SUMMARY:4th Uganda International Oil & Gas Summit
LOCATION:Kampala Serena Hotel, Uganda
DESCRIPTION;ENCODING=QUOTED-PRINTABLE:<p>Held under the auspices of the Ministry of Energy and Mineral Developmen
 t, Uganda, UIOGS 2018 will discuss and debate the future of oil and gas exp
 loration and production in Uganda. A timely meeting for all stakeholders to
  find out more about the state of exploration and production as it is now a
 nd what challenges and opportunities lie ahead.</p>
X-EXTRAINFO:http://uiogs.com/
DTSTAMP:20260421T083932Z
DTSTART;TZID=Asia/Kuala_Lumpur:20180919T080000
DTEND;TZID=Asia/Kuala_Lumpur:20180920T170000
SEQUENCE:0
TRANSP:OPAQUE
END:VEVENT
END:VCALENDAR