BEGIN:VCALENDAR
VERSION:2.0
PRODID:-//jEvents 2.0 for Joomla//EN
CALSCALE:GREGORIAN
METHOD:PUBLISH
BEGIN:VTIMEZONE
TZID:Asia/Kuala_Lumpur
BEGIN:STANDARD
DTSTART:20171202T080000
RDATE:20380119T111407
TZOFFSETFROM:+0800
TZOFFSETTO:+0800
TZNAME:Asia/Kuala_Lumpur +08
END:STANDARD
END:VTIMEZONE
BEGIN:VEVENT
UID:2764786091d2cbb573cb9de6d7b8c35d
CATEGORIES:Oil & Gas
SUMMARY:2nd International Earth Science & Global Geology Conference 2018
LOCATION:Dubai, UAE
DESCRIPTION;ENCODING=QUOTED-PRINTABLE:\n\n\n\n\n2nd International Earth Science & Global Geology Conference(Earth
  Science-2018) is going to be held during December 3-5, 2018 at Dubai, UAE.
 \n\n\n                        \n Earth Science-2018 aims to discover advanc
 es, practical experiences and innovative ideas on issues related to geology
  and earth science as well as a breadth of other topics. Earth Science-2018
  conference creates a platform for expert’s interaction, simultaneously wit
 h networking opportunities and also provides an opportunity to explore the 
 innovative ideas of the other communities, companies and associations.\n\n\
 nThis International Conference on Earth Science & Global Geology includes P
 lenary lectures, Keynote lectures and short courses by eminent personalitie
 s from around the world in addition to contributed papers both oral and pos
 ter presentations.\n\n\nEarth Science-2018 covering a total of all discipli
 nes in Earth Science & Global Geology\n\n\n\n We invite the contributions r
 elated to Earth Science. You can submit your work in these broad themes.\n\
 n\n\n Conference mainly focuses on:\n\n\n                                  
    \n\n - Physical geology (Landforms, weathering, erosion, mass wasting, e
 arth quake, the origin of the earth)\n - Global Warming\n - GEOLOGY (Struct
 ural Geology, Petrology, Geochemistry, Geophysics, Sedimentology, Geohydrol
 ogy, Geochronology, Mineralogy, Physical Geology, Marine Geology, Environme
 ntal Geology, Palaeontology, Geology of Energy Resources: Uranium, Coal, Pe
 troleum)\n - Renewable Energy to Mitigate Climate Change\n - Ecology and Ec
 osystems\n - GIS, Remote Sensing and Geospatial Sciences\n - Conservation o
 f Soil Biodiversity\n - Water Resource Management\n - Surface Hydrology/Sur
 face Water\n - Green Initiatives, Products and Climate Change\n - Meteorolo
 gy and Planetary Sciences\n - Technologies and Applications of Earth Scienc
 e\n - Geological Hazard Assessment and Earthquake Geology\n\nSubmit your ab
 stracts at: https://earthscience.madridge.com/abstract.php\n\n\n\n Earth Sc
 ience-2018 is organizing an outstanding Scientific Exhibition/Program and a
 nticipates the world’s leading specialists involved in Earth Science Resear
 ch. We welcome Sponsorship and Exhibitions from the Companies and Organizat
 ions who wish to showcase their products at this exciting event. \n \n Regi
 ster for the conference and book your slots at: https://earthscience.madrid
 ge.com/register.php\n\n\n\n \n Contact person:\n\n\nS. Rao\n This email add
 ress is being protected from spambots. You need JavaScript enabled to view 
 it.
 //
 \n This email address is being protected from spambots. You need J
 avaScript enabled to view it.
 //
 \n
X-EXTRAINFO:https://earthscience.madridge.com/
DTSTAMP:20260421T083708Z
DTSTART;TZID=Asia/Kuala_Lumpur:20181203T080000
DTEND;TZID=Asia/Kuala_Lumpur:20181205T170000
SEQUENCE:0
TRANSP:OPAQUE
END:VEVENT
END:VCALENDAR