BEGIN:VCALENDAR
VERSION:2.0
PRODID:-//jEvents 2.0 for Joomla//EN
CALSCALE:GREGORIAN
METHOD:PUBLISH
BEGIN:VTIMEZONE
TZID:Asia/Kuala_Lumpur
BEGIN:STANDARD
DTSTART:20180916T080000
RDATE:20380119T111407
TZOFFSETFROM:+0800
TZOFFSETTO:+0800
TZNAME:Asia/Kuala_Lumpur +08
END:STANDARD
END:VTIMEZONE
BEGIN:VEVENT
UID:ccec3fa5ad7a83cf5f96574d11652d48
CATEGORIES:Oil & Gas
SUMMARY:Gastech 2019
LOCATION:Houston, USA
DESCRIPTION;ENCODING=QUOTED-PRINTABLE:\n\nGastech 2019For over 45 years, the Gastech exhibition and conference ha
 s been at the forefront of the international gas, LNG and energy market.\n\
 n\nThis world renowned event is regarded as the most significant meeting pl
 ace for upstream, midstream and downstream gas and LNG professionals, where
  they convene to do business.\n\n\nGastech has fast become a next generatio
 n energy event, hosting major NOCs, IOCs, integrated energy companies, glob
 al utilities, EPC contractors, shipbuilders, pipeline companies, manufactur
 ers, technology providers and service companies all of whom play an active 
 role in the global energy value chain.\n
CONTACT:FREE MAP DISTRIBUTION
DTSTAMP:20260421T072016Z
DTSTART;TZID=Asia/Kuala_Lumpur:20190917T080000
DTEND;TZID=Asia/Kuala_Lumpur:20190919T170000
SEQUENCE:0
TRANSP:OPAQUE
END:VEVENT
END:VCALENDAR