BEGIN:VCALENDAR
VERSION:2.0
PRODID:-//jEvents 2.0 for Joomla//EN
CALSCALE:GREGORIAN
METHOD:PUBLISH
BEGIN:VTIMEZONE
TZID:Asia/Kuala_Lumpur
BEGIN:STANDARD
DTSTART:20180917T080000
RDATE:20380119T111407
TZOFFSETFROM:+0800
TZOFFSETTO:+0800
TZNAME:Asia/Kuala_Lumpur +08
END:STANDARD
END:VTIMEZONE
BEGIN:VEVENT
UID:77b1eb4b7a6b8827a9451a0532d37286
CATEGORIES:Maritime 
SUMMARY:Marintec Indonesia 2019
LOCATION:Jakarta, Indonesia
DESCRIPTION;ENCODING=QUOTED-PRINTABLE:\n\nThis year marked an important milestone for Marintec Indonesia. Having 
 previously been held successfully in the even-years, In 2017 Marintec Indon
 esia switched to an odd-year biennial cycle so that it could be held alongs
 ide Oil & Gas Indonesia, a comprehensive exhibition for petroleum explorati
 on, production and refining services and products, following UBM’s acquisit
 ion of the Allworld portfolio of exhibitions.\n\n\nAlso held at the same ti
 me was Mining Indonesia. The offshore oil and gas industry represents a maj
 or segment of the maritime market in Indonesia, and similarity the transpor
 tation of mineral resources is also a key market for Indonesia’s ship opera
 tors. The co-location of these three exhibitions yielded significant synerg
 ies for both exhibitors and buyers that can be expected to lead to new inte
 ractions and business projects.\nMore than 300 exhibiting companies from 18
  countries participated in Marintec Indonesia 2017 and Oil and Gas Indonesi
 a 2017. On display in the exhibition were the very latest in products and t
 echnologies for the maritime and oil & gas industries, supplemented up by t
 echnical and commercial presentations by exhibiting companies.\n
CONTACT:FREE MAP DISTRIBUTION -Booth 7715 Hall C3
X-EXTRAINFO:http://www.marintecindonesia.com/
DTSTAMP:20260421T112945Z
DTSTART;TZID=Asia/Kuala_Lumpur:20190918T080000
DTEND;TZID=Asia/Kuala_Lumpur:20190921T170000
SEQUENCE:0
TRANSP:OPAQUE
END:VEVENT
END:VCALENDAR