BEGIN:VCALENDAR
VERSION:2.0
PRODID:-//jEvents 2.0 for Joomla//EN
CALSCALE:GREGORIAN
METHOD:PUBLISH
BEGIN:VTIMEZONE
TZID:Asia/Kuala_Lumpur
BEGIN:STANDARD
DTSTART:20180827T080000
RDATE:20380119T111407
TZOFFSETFROM:+0800
TZOFFSETTO:+0800
TZNAME:Asia/Kuala_Lumpur +08
END:STANDARD
END:VTIMEZONE
BEGIN:VEVENT
UID:deebb1519920acb2d5ab4397616437b4
CATEGORIES:Maritime 
SUMMARY:INAMARINE 2019
LOCATION:Jakarta, Indonesia
DESCRIPTION;ENCODING=QUOTED-PRINTABLE:The 8th of maritime exhibition in Indonesia – INAMARINE 2018, which was hel
 d successfully, attracted all maritime professional companies in South East
  Asia itself and several countries. The 9th Indonesia International Shipbui
 lding, Offshore, Marine Equipment, Machinery & Services Exhibition 2019 wil
 l be return on 28 – 30 August 2019 at Jakarta International Expo (JIExpo) K
 emayoran, Jakarta – Indonesia. It aims to accelerate the growth of the mari
 time industry that is being worked on by the government. It covers the ship
 building industry, ship-owner, offshore, port and terminal facilities, mari
 time transport and logistics, safety and security in ports and shipping, an
 d environment protection.\nGaining strong support from the government and s
 everal key trade associations, INAMARINE firmly establishes itself as the l
 eading platform for both global and local to maritime and offshore industri
 es.\n
CONTACT:FREE MAP DISTRIBUTION
X-EXTRAINFO:https://www.inamarine-exhibition.net/
DTSTAMP:20260421T071656Z
DTSTART;TZID=Asia/Kuala_Lumpur:20190828T080000
DTEND;TZID=Asia/Kuala_Lumpur:20190830T170000
SEQUENCE:0
TRANSP:OPAQUE
END:VEVENT
END:VCALENDAR