BEGIN:VCALENDAR
VERSION:2.0
PRODID:-//jEvents 2.0 for Joomla//EN
CALSCALE:GREGORIAN
METHOD:PUBLISH
BEGIN:VTIMEZONE
TZID:Asia/Kuala_Lumpur
BEGIN:STANDARD
DTSTART:20171015T080000
RDATE:20380119T111407
TZOFFSETFROM:+0800
TZOFFSETTO:+0800
TZNAME:Asia/Kuala_Lumpur +08
END:STANDARD
END:VTIMEZONE
BEGIN:VEVENT
UID:e2b89b03ad32663e824702921143dd0a
CATEGORIES:Maritime 
SUMMARY:The Maritime Standard Tanker Conference 2018
LOCATION:Dubai, UAE
DESCRIPTION;ENCODING=QUOTED-PRINTABLE:\n\n\n\n\nThe second The Maritime Standard Tanker Conference, organised by 
 Flagship Events, took place at the Grosvenor House Hotel, Dubai, on 24th Oc
 tober, with a full house in attendance. The event attracted a top quality a
 udience of more than 150 people, including delegates from all the leading t
 anker owners and operators from across the region.The packed Conference hal
 l heard from a host of top speakers from different segments of the tanker b
 usiness and support sectors. Key themes included optimism about the potenti
 al that exists for growth and development within the region’s tanker sector
  and the need for close collaboration between different stakeholders, to cr
 eate the foundations for sustainable success.\n\n\nThe date and location of
  the third annual The Maritime Standard Tanker Conference have been confirm
 ed. The event, which has gained considerably in popularity since its launch
  in 2016, will be held on Tuesday, 16th October at Atlantis The Palm in Dub
 ai. The Atlantis as a venue has been selected based on its grandeur and its
  capacity to host a larger group of delegates expected this year.\n
X-EXTRAINFO:https://www.tmstankerconference.com/
DTSTAMP:20260421T083707Z
DTSTART;TZID=Asia/Kuala_Lumpur:20181016T080000
DTEND;TZID=Asia/Kuala_Lumpur:20181016T170000
SEQUENCE:0
TRANSP:OPAQUE
END:VEVENT
END:VCALENDAR