BEGIN:VCALENDAR
VERSION:2.0
PRODID:-//jEvents 2.0 for Joomla//EN
CALSCALE:GREGORIAN
METHOD:PUBLISH
BEGIN:VTIMEZONE
TZID:Asia/Kuala_Lumpur
BEGIN:STANDARD
DTSTART:20171105T080000
RDATE:20380119T111407
TZOFFSETFROM:+0800
TZOFFSETTO:+0800
TZNAME:Asia/Kuala_Lumpur +08
END:STANDARD
END:VTIMEZONE
BEGIN:VEVENT
UID:5f169bec6b0c6d96555342f4f8d000f1
CATEGORIES:Maritime 
SUMMARY:The fourth Maritime Standard Ship Finance and Trade Conference 2018
LOCATION:Abu Dhabi, UAE
DESCRIPTION;ENCODING=QUOTED-PRINTABLE:\n\n\n\n\nThe fourth annual The Maritime Standard Ship Finance and Trade Co
 nference will be held at the Sheraton Abu Dhabi Hotel & Resort on 6th Novem
 ber this year. The Conference last year attracted a high quality audience o
 f around 150 executives and decision makers from across the industry. They 
 assembled to discuss and debate the key issues and trends facing the shippi
 ng and ports market in the Middle East and the Indian Subcontinent, with a 
 particular focus on financial issues. The audience heard from some of the m
 ost well-known personalities in the business, all leaders in their chosen f
 ields, who highlighted the importance of building partnerships to help acce
 lerate investment-led growth within the industry.\n\n\nKeynote speeches at 
 the event were given by twoprominent, and influential figures within the UA
 E shipping and ports sectors. A presentation by H.E. Dr. Abdullah Salem Al-
 Katheeri, Director General, Federal Transport Authority (FTA) – Land & Mari
 time,was followed by Abdulkareem Al Masabi, Executive Vice President, Ports
 , Abu Dhabi Ports, who were key supporters of the event.\n\n\nThe main conf
 erence session focused on how politico-economic factors are likely to shape
  future opportunities and challenges for the shipping and ports sectors. Th
 e audienceheard fromseveral high profile personalities in the industry incl
 uding: Abdulla Bin Damithan, Director Commercial, DP World – UAE Region; Kh
 amis Juma Buamim, Managing Director and Group Chief Executive, Gulf Navigat
 ion Holdings; Chris Peters, Chief Executive Officer, Emirates Ship Investme
 nt Company; and Ross Thompson, Acting Chief Commercial and Strategy Officer
 , Ports, Abu Dhabi Ports. Ali Shehab, Deputy Chief Executive, Kuwait Oil Ta
 nker Company, also made a special presentation to the Conference by video l
 ink.\n
X-EXTRAINFO:https://www.tms-shipfinanceandtrade.com/
DTSTAMP:20260421T083809Z
DTSTART;TZID=Asia/Kuala_Lumpur:20181106T080000
DTEND;TZID=Asia/Kuala_Lumpur:20181106T170000
SEQUENCE:0
TRANSP:OPAQUE
END:VEVENT
END:VCALENDAR