BEGIN:VCALENDAR
VERSION:2.0
PRODID:-//jEvents 2.0 for Joomla//EN
CALSCALE:GREGORIAN
METHOD:PUBLISH
BEGIN:VTIMEZONE
TZID:Asia/Kuala_Lumpur
BEGIN:STANDARD
DTSTART:20171014T080000
RDATE:20380119T111407
TZOFFSETFROM:+0800
TZOFFSETTO:+0800
TZNAME:Asia/Kuala_Lumpur +08
END:STANDARD
END:VTIMEZONE
BEGIN:VEVENT
UID:ff54449f24cf72c965435302b8a32241
CATEGORIES:Maritime 
SUMMARY:The Maritime Standard Awards 2018
LOCATION:Atlantis The Palm, Dubai, United Arab Emirates
DESCRIPTION;ENCODING=QUOTED-PRINTABLE:\n\nA glittering, high quality occasion, with attendees including key decis
 ion makers from across the Middle East and the Indian Subcontinent, The Mar
 itime Standard Awards recognise the achievements of the industry’s most out
 standing performers and celebrate and reward their successes. Despite being
  launched only four years ago, The Maritime Standard (TMS) Awards has earne
 d the right to be referred to as the region’s premiere shipping and maritim
 e awards event. All of the four events that have taken place to date have b
 e graced with the patronage of His Highness Sheikh Ahmed bin Saeed Al Makto
 um, underlining the esteem in which they are held, and have been staged at 
 the prestigious Atlantis Ballroom, on The Palm, Dubai.\n
X-EXTRAINFO:https://www.tmsawards.com/
DTSTAMP:20260421T084219Z
DTSTART;TZID=Asia/Kuala_Lumpur:20181015T080000
DTEND;TZID=Asia/Kuala_Lumpur:20181015T170000
SEQUENCE:0
TRANSP:OPAQUE
END:VEVENT
END:VCALENDAR