BEGIN:VCALENDAR
VERSION:2.0
PRODID:-//jEvents 2.0 for Joomla//EN
CALSCALE:GREGORIAN
METHOD:PUBLISH
BEGIN:VTIMEZONE
TZID:Asia/Kuala_Lumpur
BEGIN:STANDARD
DTSTART:20130120T000000
RDATE:20380119T111407
TZOFFSETFROM:+0800
TZOFFSETTO:+0800
TZNAME:Asia/Kuala_Lumpur +08
END:STANDARD
END:VTIMEZONE
BEGIN:VEVENT
UID:b08476c777e9164442dd7310a0aeb08b
CATEGORIES:Oil & Gas
SUMMARY:Offshore West Africa
LOCATION:Accra International Conference Centre, Accra, Ghana
DESCRIPTION;ENCODING=QUOTED-PRINTABLE:\n\n                 Offshore West Africa 2014 Conference & Exhibition\n\n\
 n                 The Ghana National Petroleum Corporation (GNPC)\n\n\n \n\
 n\nThe Ghana National Petroleum Corporation (GNPC) have officially confirme
 d their support for the upcoming Offshore West Africa 2014 Conference & Exh
 ibition by agreeing to host the event taking place at the on 21-23 January.
 GNPC will be joined by over 40 leading industry speakers who will share ins
 ights into the opportunities and challenges to develop West Africa’s expand
 ing offshore potential.  Conference highlights include a Welcome Address on
  day one from Hon. Emmanuel Armah-Kofi Buah, Minister of Energy & Petroleum
 , Ghana.\n
X-EXTRAINFO:ORGANIZER: PennWell
DTSTAMP:20260421T143723Z
DTSTART;TZID=Asia/Kuala_Lumpur;VALUE=DATE:20140121
DTEND;TZID=Asia/Kuala_Lumpur;VALUE=DATE:20140124
SEQUENCE:0
TRANSP:OPAQUE
END:VEVENT
END:VCALENDAR