BEGIN:VCALENDAR
VERSION:2.0
PRODID:-//jEvents 2.0 for Joomla//EN
CALSCALE:GREGORIAN
METHOD:PUBLISH
BEGIN:VTIMEZONE
TZID:Asia/Kuala_Lumpur
BEGIN:STANDARD
DTSTART:20180617T090000
RDATE:20380119T111407
TZOFFSETFROM:+0800
TZOFFSETTO:+0800
TZNAME:Asia/Kuala_Lumpur +08
END:STANDARD
END:VTIMEZONE
BEGIN:VEVENT
UID:1d2073f78f45e7d8a49e3bcec1d9e512
CATEGORIES:Oil & Gas
SUMMARY:OGA 2019
LOCATION:Kuala Lumpur, Malaysia
DESCRIPTION;ENCODING=QUOTED-PRINTABLE:Oil & Gas plays a significant role in the economic development of Malaysia 
 and continues to become the strength and lifeblood of the economy. Located 
 at the centre of the ASEAN market, Malaysia is well-equipped with the funda
 mental facilities and systems to support the growth of Upstream and Downstr
 eam sectors. Oil & Gas Asia has been running since 1987 and for the past 31
  years, the show has become one of the most successful Oil & Gas shows in t
 he region, showcasing the latest technology in Oil, Gas and Petroleum indus
 try. The 17th installment of the Asian Oil, Gas & Petrochemical Engineering
  Exhibition will be held at the Kuala Lumpur Convention Centre (KLCC), Mala
 ysia from 18 - 20 June 2019.\nClick here to pre-register to OGA 2019\nhttps
 ://onlinereg.ubmasia.com/Registration.aspx?Lang=en&EventID=OGA2019\n
CONTACT:FREE MAP DISTRIBUTION
X-EXTRAINFO:https://www.oilandgas-asia.com/
DTSTAMP:20260421T083147Z
DTSTART;TZID=Asia/Kuala_Lumpur:20190618T090000
DTEND;TZID=Asia/Kuala_Lumpur:20190620T180000
SEQUENCE:0
TRANSP:OPAQUE
END:VEVENT
END:VCALENDAR