BEGIN:VCALENDAR
VERSION:2.0
PRODID:-//jEvents 2.0 for Joomla//EN
CALSCALE:GREGORIAN
METHOD:PUBLISH
BEGIN:VTIMEZONE
TZID:Asia/Kuala_Lumpur
BEGIN:STANDARD
DTSTART:20180122T080000
RDATE:20380119T111407
TZOFFSETFROM:+0800
TZOFFSETTO:+0800
TZNAME:Asia/Kuala_Lumpur +08
END:STANDARD
END:VTIMEZONE
BEGIN:VEVENT
UID:ff8a396ce76b43a180b07b142d32530c
CATEGORIES:Oil & Gas
SUMMARY:WAIPEC 2019, West African International Petroleum Exhibition and Conference
LOCATION:Lagos, Nigeria
DESCRIPTION;ENCODING=QUOTED-PRINTABLE:<p>The West African International Petroleum Exhibition and Conference (WAIP
 EC) will return to the Eko Convention Centre 23-24 January 2019 for its 3rd
  edition, as the only oil and gas event held in partnership with Nigeria's 
 petroleum industry. Working directly with PETAN, the organisers will draw o
 n their global resources to ensure that the event delivers to the needs of 
 all stakeholders in Nigeria and through the region.</p><p>WAIPEC 2018 was t
 he largest petroleum event of its kind in West Africa, as the city of Lagos
  welcomed in thousands of key regional stakeholders - plus leading internat
 ional E&P firms and partners - to develop and drive new business across the
  sector.</p><p>It featured in excess of 25 technical and strategic conferen
 ce sessions, driven by an esteemed steering committee <a href="http://node/
 208">click here</a> for full details.</p>
X-EXTRAINFO:http://waipec.com/
DTSTAMP:20260421T072548Z
DTSTART;TZID=Asia/Kuala_Lumpur:20190123T080000
DTEND;TZID=Asia/Kuala_Lumpur:20190124T170000
SEQUENCE:0
TRANSP:OPAQUE
END:VEVENT
END:VCALENDAR