BEGIN:VCALENDAR
VERSION:2.0
PRODID:-//jEvents 2.0 for Joomla//EN
CALSCALE:GREGORIAN
METHOD:PUBLISH
BEGIN:VTIMEZONE
TZID:Asia/Kuala_Lumpur
BEGIN:STANDARD
DTSTART:20171015T080000
RDATE:20380119T111407
TZOFFSETFROM:+0800
TZOFFSETTO:+0800
TZNAME:Asia/Kuala_Lumpur +08
END:STANDARD
END:VTIMEZONE
BEGIN:VEVENT
UID:9d61a12db7b0e79084411cd6e3e53a39
CATEGORIES:Oil & Gas
SUMMARY:6th Balkans Petroleum Summit
LOCATION:Bucharest, Romania
DESCRIPTION;ENCODING=QUOTED-PRINTABLE:
X-EXTRAINFO:https://www.balkans-petroleum.com/
DTSTAMP:20260421T083425Z
DTSTART;TZID=Asia/Kuala_Lumpur:20181016T080000
DTEND;TZID=Asia/Kuala_Lumpur:20181017T170000
SEQUENCE:0
TRANSP:OPAQUE
END:VEVENT
END:VCALENDAR