BEGIN:VCALENDAR
VERSION:2.0
PRODID:-//jEvents 2.0 for Joomla//EN
CALSCALE:GREGORIAN
METHOD:PUBLISH
BEGIN:VTIMEZONE
TZID:Asia/Kuala_Lumpur
BEGIN:STANDARD
DTSTART:20171009T080000
RDATE:20380119T111407
TZOFFSETFROM:+0800
TZOFFSETTO:+0800
TZNAME:Asia/Kuala_Lumpur +08
END:STANDARD
END:VTIMEZONE
BEGIN:VEVENT
UID:15ed17c116e4970f8ee66ebaca07f8b7
CATEGORIES:Maritime 
SUMMARY:OFFSHORE KOREA 2018
LOCATION:Busan, Korea
DESCRIPTION;ENCODING=QUOTED-PRINTABLE:OK 2018 is specially sponsored by the world’s top 3 Korean shipyards.Korea 
 is an undisputed world leading country in new building of large offshore pl
 ant construction with top 3 shipyards-Hyundai Heavy Industries, Daewoo Ship
 building & Marine Engineering and Samsung Heavy Industries.OFFSHORE KOREA 2
 018 is specially sponsored by top 3 shipyards.\nTop 3 shipyards will provid
 e full-scale support for the offshore plant models exhibitions, dispatch th
 eir offshore procurement representatives, and participate in the OK confere
 nce contributing greatly to the value and success of OK 2018.
X-EXTRAINFO:http://www.okkorea.org/eng/index.asp
DTSTAMP:20260421T132459Z
DTSTART;TZID=Asia/Kuala_Lumpur:20181010T080000
DTEND;TZID=Asia/Kuala_Lumpur:20181012T170000
SEQUENCE:0
TRANSP:OPAQUE
END:VEVENT
END:VCALENDAR