BEGIN:VCALENDAR
VERSION:2.0
PRODID:-//jEvents 2.0 for Joomla//EN
CALSCALE:GREGORIAN
METHOD:PUBLISH
BEGIN:VTIMEZONE
TZID:Asia/Kuala_Lumpur
BEGIN:STANDARD
DTSTART:20171127T100000
RDATE:20380119T111407
TZOFFSETFROM:+0800
TZOFFSETTO:+0800
TZNAME:Asia/Kuala_Lumpur +08
END:STANDARD
END:VTIMEZONE
BEGIN:VEVENT
UID:93b434974eff4ee243c902a255d661bc
CATEGORIES:Oil & Gas
SUMMARY:Powermax 2018
LOCATION:JiExpo Kemayoran, Indonesia
DESCRIPTION;ENCODING=QUOTED-PRINTABLE:\n\n\n\n\n“Mencapai Kemandirian Energi Nasional” ( Evaluasi & Proyeksi 2019
  -2024) POWERMAX 2018, Industrial Energy Expo & Conference\n\n\nPowermax 20
 18 is Indonesia's only platform that fuels Indonesia's electrification, oil
  and gas, mining sectors. This B2B platform features over 350 global brands
  and 25.000 targeted visitors. It showcases electro-power related technolog
 y, solution and presents the power-energy market outlook projects. Powermax
  2018 is staged to compliment the National Energy Supply Agency (Badan Peng
 elola Energi Nasional) policy of actualizing nationwide demand of 35000 MW 
 capacity by 2015 – 2025. Supported by 9 Ministries.\n
CONTACT:FREE MAP DISTRIBUTION
X-EXTRAINFO:This email address is being protected from spambots. You need JavaScript en
 abled to view it.
 //
 \nwww.myexpo.co.id
DTSTAMP:20260421T083057Z
DTSTART;TZID=Asia/Kuala_Lumpur:20181128T100000
DTEND;TZID=Asia/Kuala_Lumpur:20181130T180000
SEQUENCE:0
TRANSP:OPAQUE
END:VEVENT
END:VCALENDAR