BEGIN:VCALENDAR
VERSION:2.0
PRODID:-//jEvents 2.0 for Joomla//EN
CALSCALE:GREGORIAN
METHOD:PUBLISH
BEGIN:VTIMEZONE
TZID:Asia/Kuala_Lumpur
BEGIN:STANDARD
DTSTART:20140125T000000
RDATE:20380119T111407
TZOFFSETFROM:+0800
TZOFFSETTO:+0800
TZNAME:Asia/Kuala_Lumpur +08
END:STANDARD
END:VTIMEZONE
BEGIN:VEVENT
UID:e94180aab254407141899f3b74bdce9b
CATEGORIES:Oil & Gas
SUMMARY:Offshore Middle East 2015 Conference & Exhibition
LOCATION:QATAR NATIONAL CONVENTION CENTRE DOHA, QATAR
DESCRIPTION;ENCODING=QUOTED-PRINTABLE: \n\nOffshore Middle East is the premier event dedicated to the offshore ex
 ploration and production industries of the Gulf region, providing excellent
  networking opportunities and a forum for sharing of ideas and experiences.
 The Advisory Committee of Offshore Middle East is now accepting paper abstr
 acts for the Offshore Middle East 2015 Conference. We invite you to submit 
 an abstract and share your knowledge, experience and ideas with technical a
 nd strategic decision-makers and strategists. This leading conference is a 
 great opportunity to network with leading organizations and high level infl
 uencers and for you to represent your company at the most prestigious event
  for the industry. To have your presentation considered for the technical s
 ession program, please submit your 150 - 400 word abstract on one or more o
 f the technical focus areas listed by 15 May 2014.\n
DTSTAMP:20260421T143809Z
DTSTART;TZID=Asia/Kuala_Lumpur;VALUE=DATE:20150126
DTEND;TZID=Asia/Kuala_Lumpur;VALUE=DATE:20150129
SEQUENCE:0
TRANSP:OPAQUE
END:VEVENT
END:VCALENDAR