BEGIN:VCALENDAR
VERSION:2.0
PRODID:-//jEvents 2.0 for Joomla//EN
CALSCALE:GREGORIAN
METHOD:PUBLISH
BEGIN:VTIMEZONE
TZID:Asia/Kuala_Lumpur
BEGIN:STANDARD
DTSTART:20171017T080000
RDATE:20380119T111407
TZOFFSETFROM:+0800
TZOFFSETTO:+0800
TZNAME:Asia/Kuala_Lumpur +08
END:STANDARD
END:VTIMEZONE
BEGIN:VEVENT
UID:68380ca5695c511a4d09056895f1b12a
CATEGORIES:Oil & Gas
SUMMARY:The 5th FPSO & FLNG & FSRU Asia Pacific convention and exhibition 2018
LOCATION:Shanghai, China
DESCRIPTION;ENCODING=QUOTED-PRINTABLE:
X-EXTRAINFO:http://www.ffa-annual.com/indexen.html
DTSTAMP:20260421T083808Z
DTSTART;TZID=Asia/Kuala_Lumpur:20181018T080000
DTEND;TZID=Asia/Kuala_Lumpur:20181019T170000
SEQUENCE:0
TRANSP:OPAQUE
END:VEVENT
END:VCALENDAR