BEGIN:VCALENDAR
VERSION:2.0
PRODID:-//jEvents 2.0 for Joomla//EN
CALSCALE:GREGORIAN
METHOD:PUBLISH
BEGIN:VTIMEZONE
TZID:Asia/Kuala_Lumpur
BEGIN:STANDARD
DTSTART:20170409T080000
RDATE:20380119T111407
TZOFFSETFROM:+0800
TZOFFSETTO:+0800
TZNAME:Asia/Kuala_Lumpur +08
END:STANDARD
END:VTIMEZONE
BEGIN:VEVENT
UID:96cc9c8f0725136e2b1aa6bf83ab17a4
CATEGORIES:Oil & Gas
SUMMARY:LNG Asia Pacific Congress 2018
LOCATION:Amara Hotel Singapore
DESCRIPTION;ENCODING=QUOTED-PRINTABLE:\n\n\nDeveloped in conjunction with the region’s senior LNG community, LNG 
 Asia Pacific Congress 2018will bring together leaders from key stakeholders
 . This unique event brings you the latest in pricing, supply and demand bal
 ance, contracting strategies, shipping rates, tech developments, reducing c
 ost of LNG project development, up-to-the-minute insights from top buyers i
 n Asia and emerging markets and more.  \nTop Reasons to Attend:\nBuyer and 
 End-User presentations on Demand OutlookLatest commercial opportunities in 
 LNG Markets & Trading, Terminals and Infrastructure (FSRU and FLNG)Exclusiv
 e panels on the most pressing issues – Pricing, Contracts, Trading and Bank
 abilityUnique focus on developing and driving Small-Scale LNGBusiness criti
 cal insights and innovative technological solutionsInteractive formats incl
 uding dynamic roundtable discussions, panel debates and workshops\n\n \n\n\
 nNeed help? Contact our Customer Service & Booking Hotlines\n\n\nEmail: Thi
 s email address is being protected from spambots. You need JavaScript enabl
 ed to view it.
 //
 \n\n\nTelephone: +65 6508 2401\n\n\nFax: +65 6508 2407\
 n
CONTACT:FREE MAP DISTRIBUTION
X-EXTRAINFO:http://www.lngapac.com/
DTSTAMP:20260421T083556Z
DTSTART;TZID=Asia/Kuala_Lumpur:20180410T080000
DTEND;TZID=Asia/Kuala_Lumpur:20180412T170000
SEQUENCE:0
TRANSP:OPAQUE
END:VEVENT
END:VCALENDAR