BEGIN:VCALENDAR
VERSION:2.0
PRODID:-//jEvents 2.0 for Joomla//EN
CALSCALE:GREGORIAN
METHOD:PUBLISH
BEGIN:VTIMEZONE
TZID:Asia/Kuala_Lumpur
BEGIN:STANDARD
DTSTART:20170201T090000
RDATE:20380119T111407
TZOFFSETFROM:+0800
TZOFFSETTO:+0800
TZNAME:Asia/Kuala_Lumpur +08
END:STANDARD
END:VTIMEZONE
BEGIN:VEVENT
UID:daacc10df520c0c70c21166767826343
CATEGORIES:Oil & Gas
SUMMARY:INPAMINDO 2018
LOCATION:JIEXPO Kemayoran Jakarta, Indonesia
DESCRIPTION;ENCODING=QUOTED-PRINTABLE:\n\nIndonesian National Police, as the hosted for Security Industry in Indo
 nesia, plans to hold INPAMINDO (Security Industry Indonesia) Convention & E
 xhibition 2018 at the Jiexpo Kemayoran on February 2 – 4 2018.\nINPAMINDO C
 onvention & Exhibition 2018 brings together the industry leading companies 
 and key influencers.\n
X-EXTRAINFO:https://www.instagram.com/inpamindo2018/ 
DTSTAMP:20260421T110605Z
DTSTART;TZID=Asia/Kuala_Lumpur:20180202T090000
DTEND;TZID=Asia/Kuala_Lumpur:20180204T170000
SEQUENCE:0
TRANSP:OPAQUE
END:VEVENT
END:VCALENDAR