BEGIN:VCALENDAR
VERSION:2.0
PRODID:-//jEvents 2.0 for Joomla//EN
CALSCALE:GREGORIAN
METHOD:PUBLISH
BEGIN:VTIMEZONE
TZID:Asia/Kuala_Lumpur
BEGIN:STANDARD
DTSTART:20170926T080000
RDATE:20380119T111407
TZOFFSETFROM:+0800
TZOFFSETTO:+0800
TZNAME:Asia/Kuala_Lumpur +08
END:STANDARD
END:VTIMEZONE
BEGIN:VEVENT
UID:3727ba05cc5958f3d5c97336bf583cd8
CATEGORIES:Oil & Gas
SUMMARY:World Congress on Oil, Gas And Petroleum Refinery
LOCATION:Abu Dhabi, UAE
DESCRIPTION;ENCODING=QUOTED-PRINTABLE:\n\nPetroleum Refinery 2018 gives a platform for analyst scholars, research
 ers and academic people to share and globalize their research work while th
 e participants from industry/ business sectors can promote their products t
 hus felicitating dissemination of knowledge. We anticipate more than 300 me
 mbers around the globe for thought provoking keynote lectures, oral and als
 o poster presentations. The attending delegates include Editorial Board Mem
 bers of related journals. The scope of Petroleum Refinery 2018 is to bring 
 the advancements in the field of oil gas, petroleum, natural gas and its al
 lied areas.\n
DTSTAMP:20260421T083809Z
DTSTART;TZID=Asia/Kuala_Lumpur:20180927T080000
DTEND;TZID=Asia/Kuala_Lumpur:20180928T170000
SEQUENCE:0
TRANSP:OPAQUE
END:VEVENT
END:VCALENDAR