BEGIN:VCALENDAR
VERSION:2.0
PRODID:-//jEvents 2.0 for Joomla//EN
CALSCALE:GREGORIAN
METHOD:PUBLISH
BEGIN:VTIMEZONE
TZID:Asia/Kuala_Lumpur
BEGIN:STANDARD
DTSTART:20170410T080000
RDATE:20380119T111407
TZOFFSETFROM:+0800
TZOFFSETTO:+0800
TZNAME:Asia/Kuala_Lumpur +08
END:STANDARD
END:VTIMEZONE
BEGIN:VEVENT
UID:ac1164bec8fed3b8f061bbe9be7f7f71
CATEGORIES:Oil & Gas
SUMMARY:Chad Petroleum, Energy & Mining 2018
LOCATION:N'Djamena, Chad
DESCRIPTION;ENCODING=QUOTED-PRINTABLE:\n\nChad Petroleum, Energy & Mining Summit, taking place from the 11th unti
 l the 13th of April 2018 in Chad, is the first official event organised exc
 lusively in Chad under the Auspices of the Chadian Government and the full 
 endorsement of the Ministry of Petroleum and Energy of Chad and Ministry of
  Mines, Geology and Quarries. The Summit's main focus is on the recent deve
 lopments that take place in the Chadian petroleum, mining and energy indust
 ries. Chad has taken huge steps in the petroleum industry since 2011, but i
 nnovation in Chad is not only limited in fossil fuels, as there is great po
 tential in the production and exports of mineral commodities, such as gold,
  silver and uranium. Furthermore, Chad is planning to tap in its vast poten
 tial of renewable energy, such as solar energy, and is looking for operator
 s and service companies to collaborate with.\n
X-EXTRAINFO:https://www.chad-petroleum.com/
DTSTAMP:20260421T083109Z
DTSTART;TZID=Asia/Kuala_Lumpur:20180411T080000
DTEND;TZID=Asia/Kuala_Lumpur:20180413T170000
SEQUENCE:0
TRANSP:OPAQUE
END:VEVENT
END:VCALENDAR