BEGIN:VCALENDAR
VERSION:2.0
PRODID:-//jEvents 2.0 for Joomla//EN
CALSCALE:GREGORIAN
METHOD:PUBLISH
BEGIN:VTIMEZONE
TZID:Asia/Kuala_Lumpur
BEGIN:STANDARD
DTSTART:20170806T080000
RDATE:20380119T111407
TZOFFSETFROM:+0800
TZOFFSETTO:+0800
TZNAME:Asia/Kuala_Lumpur +08
END:STANDARD
END:VTIMEZONE
BEGIN:VEVENT
UID:957db894661be8f442ea9cf3c5fcc91d
CATEGORIES:Oil & Gas
SUMMARY:LNG, Offshore and Marine Vietnam 2018
LOCATION:Ho Chi Minh, Vietnam
DESCRIPTION;ENCODING=QUOTED-PRINTABLE:
CONTACT:FREE MAP DISTRIBUTION
DTSTAMP:20260421T083927Z
DTSTART;TZID=Asia/Kuala_Lumpur:20180807T080000
DTEND;TZID=Asia/Kuala_Lumpur:20180809T170000
SEQUENCE:0
TRANSP:OPAQUE
END:VEVENT
END:VCALENDAR