BEGIN:VCALENDAR
VERSION:2.0
PRODID:-//jEvents 2.0 for Joomla//EN
CALSCALE:GREGORIAN
METHOD:PUBLISH
BEGIN:VTIMEZONE
TZID:Asia/Kuala_Lumpur
BEGIN:STANDARD
DTSTART:20131209T000000
RDATE:20380119T111407
TZOFFSETFROM:+0800
TZOFFSETTO:+0800
TZNAME:Asia/Kuala_Lumpur +08
END:STANDARD
END:VTIMEZONE
BEGIN:VEVENT
UID:7cf71440cf43603b70ef75ebd82597f0
CATEGORIES:Oil & Gas
SUMMARY:IPTC -INTERNATIONAL PETROLEUM TECHNOLOGY CONFERENCE
LOCATION:KLCC, Malaysia
DESCRIPTION;ENCODING=QUOTED-PRINTABLE: \n\nThe eighth International Petroleum Technology Conference (IPTC) will b
 e held 10–12 December 2014 at the Kuala Lumpur Convention Centre in Kuala L
 umpur, Malaysia.\n
DTSTAMP:20260421T143825Z
DTSTART;TZID=Asia/Kuala_Lumpur;VALUE=DATE:20141210
DTEND;TZID=Asia/Kuala_Lumpur;VALUE=DATE:20141213
SEQUENCE:0
TRANSP:OPAQUE
END:VEVENT
END:VCALENDAR