BEGIN:VCALENDAR
VERSION:2.0
PRODID:-//jEvents 2.0 for Joomla//EN
CALSCALE:GREGORIAN
METHOD:PUBLISH
BEGIN:VTIMEZONE
TZID:Asia/Kuala_Lumpur
BEGIN:STANDARD
DTSTART:20170507T080000
RDATE:20380119T111407
TZOFFSETFROM:+0800
TZOFFSETTO:+0800
TZNAME:Asia/Kuala_Lumpur +08
END:STANDARD
END:VTIMEZONE
BEGIN:VEVENT
UID:c54fbd191d679c360ab8bf8cb88fc569
CATEGORIES:Oil & Gas
SUMMARY:LNG, Offshore and Marine Myanmar 2018
LOCATION:Yangon
DESCRIPTION;ENCODING=QUOTED-PRINTABLE:
CONTACT:FREE MAP DISTRIBUTION
DTSTAMP:20260421T083815Z
DTSTART;TZID=Asia/Kuala_Lumpur:20180508T080000
DTEND;TZID=Asia/Kuala_Lumpur:20180509T170000
SEQUENCE:0
TRANSP:OPAQUE
END:VEVENT
END:VCALENDAR