BEGIN:VCALENDAR
VERSION:2.0
PRODID:-//jEvents 2.0 for Joomla//EN
CALSCALE:GREGORIAN
METHOD:PUBLISH
BEGIN:VTIMEZONE
TZID:Asia/Kuala_Lumpur
BEGIN:STANDARD
DTSTART:20170902T080000
RDATE:20380119T111407
TZOFFSETFROM:+0800
TZOFFSETTO:+0800
TZNAME:Asia/Kuala_Lumpur +08
END:STANDARD
END:VTIMEZONE
BEGIN:VEVENT
UID:acab9ba09df4e34673b5f4ed43df3e57
CATEGORIES:Oil & Gas
SUMMARY:World Heavy Oil Congress & Exhibition 2018
LOCATION:Muscat, Oman
DESCRIPTION;ENCODING=QUOTED-PRINTABLE:
X-EXTRAINFO:http://worldheavyoilcongress.com/
DTSTAMP:20260421T083713Z
DTSTART;TZID=Asia/Kuala_Lumpur:20180903T080000
DTEND;TZID=Asia/Kuala_Lumpur:20180905T170000
SEQUENCE:0
TRANSP:OPAQUE
END:VEVENT
END:VCALENDAR