BEGIN:VCALENDAR
VERSION:2.0
PRODID:-//jEvents 2.0 for Joomla//EN
CALSCALE:GREGORIAN
METHOD:PUBLISH
BEGIN:VTIMEZONE
TZID:Asia/Kuala_Lumpur
BEGIN:STANDARD
DTSTART:20170416T080000
RDATE:20380119T111407
TZOFFSETFROM:+0800
TZOFFSETTO:+0800
TZNAME:Asia/Kuala_Lumpur +08
END:STANDARD
END:VTIMEZONE
BEGIN:VEVENT
UID:7318c589a1aae9d526775a7b07c8d8e9
CATEGORIES:Oil & Gas
SUMMARY:StocExpo Middle East Africa 2018
LOCATION:Dubai World Trade Centre
DESCRIPTION;ENCODING=QUOTED-PRINTABLE:\n\n\n\n\n \n
CONTACT:FREE MAP DISTRIBUTION 
X-EXTRAINFO:http://www.easyfairs.com/stocexpo-middle-east-africa-2018/stocexpo-middle-e
 ast-africa-2018/\n+44 (0)20 3196 4390 (Anthony Webb)\nThis email address is
  being protected from spambots. You need JavaScript enabled to view it.
 //
 
 
DTSTAMP:20260421T083712Z
DTSTART;TZID=Asia/Kuala_Lumpur:20180417T080000
DTEND;TZID=Asia/Kuala_Lumpur:20180418T170000
SEQUENCE:0
TRANSP:OPAQUE
END:VEVENT
END:VCALENDAR