BEGIN:VCALENDAR
VERSION:2.0
PRODID:-//jEvents 2.0 for Joomla//EN
CALSCALE:GREGORIAN
METHOD:PUBLISH
BEGIN:VTIMEZONE
TZID:Asia/Kuala_Lumpur
BEGIN:STANDARD
DTSTART:20170903T080000
RDATE:20380119T111407
TZOFFSETFROM:+0800
TZOFFSETTO:+0800
TZNAME:Asia/Kuala_Lumpur +08
END:STANDARD
END:VTIMEZONE
BEGIN:VEVENT
UID:7f8c90e9a2d6b8d4105c0deff77b24e8
CATEGORIES:Maritime 
SUMMARY:SMM 2018
LOCATION:Hamburg 
DESCRIPTION;ENCODING=QUOTED-PRINTABLE:\n\n\nThe world’s leading trade fair for the maritime industryWith over 2,2
 00 exhibitors and about 50,000 visitors from all over the world, SMM contin
 ues to cement its position as the most important event in the maritime indu
 stry calendar.\nThe trade fair offers a perfect stage for gathering insight
 s, networking, cementing business deals and contributing to debates with th
 e thought leaders in this sector.\n
CONTACT:FREE MAP DISTRIBUTION
X-EXTRAINFO:https://www.smm-hamburg.com/en/the-fair/
DTSTAMP:20260421T083057Z
DTSTART;TZID=Asia/Kuala_Lumpur:20180904T080000
DTEND;TZID=Asia/Kuala_Lumpur:20180907T170000
SEQUENCE:0
TRANSP:OPAQUE
END:VEVENT
END:VCALENDAR