BEGIN:VCALENDAR
VERSION:2.0
PRODID:-//jEvents 2.0 for Joomla//EN
CALSCALE:GREGORIAN
METHOD:PUBLISH
BEGIN:VTIMEZONE
TZID:Asia/Kuala_Lumpur
BEGIN:STANDARD
DTSTART:20170115T080000
RDATE:20380119T111407
TZOFFSETFROM:+0800
TZOFFSETTO:+0800
TZNAME:Asia/Kuala_Lumpur +08
END:STANDARD
END:VTIMEZONE
BEGIN:VEVENT
UID:603b6361f41772981e672e2a1ba6b042
CATEGORIES:Oil & Gas
SUMMARY:5th Asia LPG Summit 2018
LOCATION:International Convention City Bashundhara Hall 2 & 4, Dhaka, Bangladesh.
DESCRIPTION;ENCODING=QUOTED-PRINTABLE:\n\n\n\n\nThe hottest marketplace for LPG is opening up again! Join us at t
 he 5TH ASIA LPG SUMMIT 2018 on the 16 – 17 January 2018, at the Internation
 al Convention City Bashundhara Hall 2 & 4 (ICCB Hall-2 & Hall-4), Dhaka, Ba
 ngladesh.\n\n\n>>View the agenda here: http://www.lpgsummit.com/asia2018/as
 sets/Asia_LPG_SUMMIT_2018.pdf\n\n\nBangladesh’s LPG market is red-hot, proj
 ected to grow over 500% to meet increasing energy demands as well as the pr
 ojected shortage of natural gas. In 2017, this unique event brought togethe
 r over 2400+ business representatives, government and officials for 2 days,
  opening up amazing opportunities for business development for LPG in Asia.
  \n\n\nThis forum is the place to be seen when it comes to being in the mid
 dle of the action in Bangladesh and the neighboring countries like Nepal, P
 akistan and India, all of which have rapidly developing LPG markets of thei
 r own. \n\n\nFor more information, please contact us at +65 6506 0965 or Th
 is email address is being protected from spambots. You need JavaScript enab
 led to view it.
 //
 \n
X-EXTRAINFO:Website: http://www.lpgsummit.com/asia2018/\nEmail: This email address is b
 eing protected from spambots. You need JavaScript enabled to view it.
 //
 
DTSTAMP:20260421T083019Z
DTSTART;TZID=Asia/Kuala_Lumpur:20180116T080000
DTEND;TZID=Asia/Kuala_Lumpur:20180117T170000
SEQUENCE:0
TRANSP:OPAQUE
END:VEVENT
END:VCALENDAR