BEGIN:VCALENDAR
VERSION:2.0
PRODID:-//jEvents 2.0 for Joomla//EN
CALSCALE:GREGORIAN
METHOD:PUBLISH
BEGIN:VTIMEZONE
TZID:Asia/Kuala_Lumpur
BEGIN:STANDARD
DTSTART:20170916T080000
RDATE:20380119T111407
TZOFFSETFROM:+0800
TZOFFSETTO:+0800
TZNAME:Asia/Kuala_Lumpur +08
END:STANDARD
END:VTIMEZONE
BEGIN:VEVENT
UID:6b968a8ce2bc23839d7e7f0bf9bcd3ee
CATEGORIES:Oil & Gas
SUMMARY:10th Asia Pacific Congress on Oil and Gas
LOCATION:Raddison blu Hotel Beijing, Beijing, China
DESCRIPTION;ENCODING=QUOTED-PRINTABLE:\n\nConference Series Ltd welcomes you to attend the 10th Asia Pacific Cong
 ress on Oil and Gas during September 17-19, 2018 Beijing, China. We cordial
 ly invite all the interested participants in sharing their knowledge, resea
 rch and gaining the information in the arena of petroleum and its allied ar
 eas.\n\n\n\nConferences Series LLC Organizes 1000+ Conferences Every Year a
 cross USA, Europe & Asia with support from 1000 more scientific societies a
 nd Publishes 500+ Open access journals which contains over 30000 eminent pe
 rsonalities, reputed scientists as editorial board members.\n\n\n\nOil and 
 Gas Congress 2018 provides a platform for researcher scholars, scientists a
 nd academic people to share and globalize their research work while the par
 ticipants from industry/ business sectors can promote their products thus f
 elicitating dissemination of knowledge. We anticipate more than 300 partici
 pants around the globe with thought provoking keynote lectures, oral and po
 ster presentations. The attending delegates include Editorial Board Members
  of related journals. The scope of Oil and Gas Congress 2018 is to bring th
 e advancements in the field of petroleum, natural gas and its allied areas.
 \n\n\n\nOil and Gas attains greater global significance as the world econom
 y has been developing with oil as its lifeblood for over a hundred years. T
 he petroleum sector accounts for roughly 45% of GDP and 90% of export earni
 ngs, it’s over half if you include natural gas. Oil/gas powers 100% of all 
 transportation, within a few significant figures of rounding error. There i
 s no doubt in my mind whatsoever that modern civilization would collapse in
  a matter of months if oil stopped flowing. It is hard to imagine industria
 l operations or even private activities without oil and gas – anywhere in t
 he world.\n
X-EXTRAINFO:For more Details: http://oil-gas.chemicalengineeringconference.com/   \nEma
 il: This email address is being protected from spambots. You need JavaScrip
 t enabled to view it.
 //
 , This email address is being protected from spa
 mbots. You need JavaScript enabled to view it.
 //
 
DTSTAMP:20260421T083927Z
DTSTART;TZID=Asia/Kuala_Lumpur:20180917T080000
DTEND;TZID=Asia/Kuala_Lumpur:20180919T170000
SEQUENCE:0
TRANSP:OPAQUE
END:VEVENT
END:VCALENDAR