BEGIN:VCALENDAR
VERSION:2.0
PRODID:-//jEvents 2.0 for Joomla//EN
CALSCALE:GREGORIAN
METHOD:PUBLISH
BEGIN:VTIMEZONE
TZID:Asia/Kuala_Lumpur
BEGIN:STANDARD
DTSTART:20131203T000000
RDATE:20380119T111407
TZOFFSETFROM:+0800
TZOFFSETTO:+0800
TZNAME:Asia/Kuala_Lumpur +08
END:STANDARD
END:VTIMEZONE
BEGIN:VEVENT
UID:9d539f0a62442a683943e98794abb913
CATEGORIES:Oil & Gas
SUMMARY:LIBYA ENERGY Exhibition
LOCATION:Tripoli International Fairground
DESCRIPTION;ENCODING=QUOTED-PRINTABLE: \n\nInternational Energy ,Infrastructure and Building-Construction Confere
 nce & Exhibition\nOil&Gas: Oilfield, Gasfield Equipment & Services, Refinin
 g, Processing & Petrochemicals, Transportation & Pipelines, Measurement & A
 utomation, Technologies, Tools & electro – power equipment, Retail, gas sta
 tion equipment.Reservoir monitoring & testing, Reservoir engineering, Explo
 ration & Production LNG, Geophysıcs & Geology, Drilling & Well Servicing, F
 luid mechanisms & oil - recovery process, Gas technology, Facilities engine
 ering, Construction, Software,Health & safety environment, Security.\n Powe
 r: Power Stations, Power Plant Equipment, High Voltage Transmission, Distri
 bution Networks, Switchgear Products, Transformers, Diagnostic Equipment, M
 onitoring and Control, Portable Generators, Electrical Engineering, Electri
 cal Supplies, Switches and Controls, Cables and Wiring, Power Protection. L
 ighting: Chandeliers, Ornamental Fittings, Concealed Fittings, Display Ligh
 ting, Fluorescent Lighting, Large Area Lighting, Residential Lighting, Anti
 que Fittings, Modern Fittings, Garden and Outdoor Lighting, Flood Lighting,
  Security Lighting, Street Lighting, Switches & Controls.Renewable Energy: 
 Solar Energy, Photovoltaic Solar Energy, Onshore and Offshore Wind Energy, 
 Biofuels, Subsoil Heat Energy, Wind Energy. Heating, Ventilation and Air-Co
 nditioning: Central Units, Instrumentation & Controls, District Cooling Tec
 hnology, Ducting Systems, Components and Spare Parts, Ventilation Systems, 
 Refrigeration and Cooling, Industrial Fans, Vents and Grills, Large Capacit
 y Food Storage, Supermarket, Hotel & Restaurant Refrigeration, Engineering 
 Cooling, Process Cooling Systems.
X-EXTRAINFO:\
DTSTAMP:20260421T143721Z
DTSTART;TZID=Asia/Kuala_Lumpur;VALUE=DATE:20141204
DTEND;TZID=Asia/Kuala_Lumpur;VALUE=DATE:20141208
SEQUENCE:0
TRANSP:OPAQUE
END:VEVENT
END:VCALENDAR