BEGIN:VCALENDAR
VERSION:2.0
PRODID:-//jEvents 2.0 for Joomla//EN
CALSCALE:GREGORIAN
METHOD:PUBLISH
BEGIN:VTIMEZONE
TZID:Asia/Kuala_Lumpur
BEGIN:STANDARD
DTSTART:20170924T080000
RDATE:20380119T111407
TZOFFSETFROM:+0800
TZOFFSETTO:+0800
TZNAME:Asia/Kuala_Lumpur +08
END:STANDARD
END:VTIMEZONE
BEGIN:VEVENT
UID:6d9157357e24820c60c78a8869a2d428
CATEGORIES:Oil & Gas
SUMMARY:International Pipeline Expo (IPE 2018)
LOCATION:Calgary, Alberta
DESCRIPTION;ENCODING=QUOTED-PRINTABLE:
X-EXTRAINFO:https://internationalpipelineexposition.com/
DTSTAMP:20260421T083933Z
DTSTART;TZID=Asia/Kuala_Lumpur:20180925T080000
DTEND;TZID=Asia/Kuala_Lumpur:20180927T170000
SEQUENCE:0
TRANSP:OPAQUE
END:VEVENT
END:VCALENDAR