BEGIN:VCALENDAR
VERSION:2.0
PRODID:-//jEvents 2.0 for Joomla//EN
CALSCALE:GREGORIAN
METHOD:PUBLISH
BEGIN:VTIMEZONE
TZID:Asia/Kuala_Lumpur
BEGIN:STANDARD
DTSTART:20171211T080000
RDATE:20380119T111407
TZOFFSETFROM:+0800
TZOFFSETTO:+0800
TZNAME:Asia/Kuala_Lumpur +08
END:STANDARD
END:VTIMEZONE
BEGIN:VEVENT
UID:b511b4a155a4b6d6e307063d83160e0f
CATEGORIES:Oil & Gas
SUMMARY:Future Energy Asia Exhibition & Conference  2018
LOCATION:Bangkok, Thailand
DESCRIPTION;ENCODING=QUOTED-PRINTABLE:\n\n\n\n\nFuture Energy Asia is an annual exhibition and conference that wi
 ll be held in Bangkok, Thailand from the 12-14th December 2018 that connect
 s thousands of energy professionals committed to accelerating Asia’s energy
  transformation.\n\n\nHeld in partnership with the Thailand Ministry of Ene
 rgy, Future Energy Asia brings together the complete energy value chain – g
 overnments and policy makers; oil and gas companies; midstream gas and LNG 
 companies; renewable energy developers; power and utility companies, and te
 chnology providers – to shape the strategies and technologies needed for As
 ia to meet its future energy ambitions for its people and businesses.\n\n\n
 Future Energy Asia will enhance the dialogue for the global energy transiti
 on ensuring a secure, affordable and low-carbon energy mix across Asia.\n\n
 \n \n
CONTACT:FREE MAP DISTRIBUTION
X-EXTRAINFO:http://www.futureenergyasia.com/
DTSTAMP:20260421T115439Z
DTSTART;TZID=Asia/Kuala_Lumpur:20181212T080000
DTEND;TZID=Asia/Kuala_Lumpur:20181214T170000
SEQUENCE:0
TRANSP:OPAQUE
END:VEVENT
END:VCALENDAR