BEGIN:VCALENDAR
VERSION:2.0
PRODID:-//jEvents 2.0 for Joomla//EN
CALSCALE:GREGORIAN
METHOD:PUBLISH
BEGIN:VTIMEZONE
TZID:Asia/Kuala_Lumpur
BEGIN:STANDARD
DTSTART:20180331T080000
RDATE:20380119T111407
TZOFFSETFROM:+0800
TZOFFSETTO:+0800
TZNAME:Asia/Kuala_Lumpur +08
END:STANDARD
END:VTIMEZONE
BEGIN:VEVENT
UID:1ce59490d9afc403c755d082e9520a0e
CATEGORIES:Oil & Gas
SUMMARY:LNG19 -19th International Conference & Exhibition on Liquefied Natural Gas 
LOCATION:Shanghai, China
DESCRIPTION;ENCODING=QUOTED-PRINTABLE:\n\n\n\n\nThe 19th International Conference & Exhibition on Liquefied Natur
 al Gas, presented by the International Gas Union (IGU), Gas Technology Inst
 itute (GTI) and the International Institute of Refrigeration (IIR), is the 
 only LNG event conducted by the industry for the industry.\n\n\nIn 2019 Sha
 nghai will host the 19th edition. LNG 2019 is supported by the Shanghai Mun
 icipal People’s Government and hosted by the China LNG Association, China G
 as Society, The Chinese Association of Refrigeration and the China Gas Asso
 ciation.\n\n\n \n\n\nSince 1968 the LNG X series has grown into the most im
 portant and significant global LNG event with its key aim to conduct a stra
 tegic, technical and commercial event for the LNG industry. The event is no
 w held every three years alternating between exporting and importing countr
 ies.\n
CONTACT:FREE MAP DISTRIBUTION
X-EXTRAINFO:http://www.lng2019.com/
DTSTAMP:20260421T072205Z
DTSTART;TZID=Asia/Kuala_Lumpur:20190401T080000
DTEND;TZID=Asia/Kuala_Lumpur:20190405T170000
SEQUENCE:0
TRANSP:OPAQUE
END:VEVENT
END:VCALENDAR