BEGIN:VCALENDAR
VERSION:2.0
PRODID:-//jEvents 2.0 for Joomla//EN
CALSCALE:GREGORIAN
METHOD:PUBLISH
BEGIN:VTIMEZONE
TZID:Asia/Kuala_Lumpur
BEGIN:STANDARD
DTSTART:20170925T080000
RDATE:20380119T111407
TZOFFSETFROM:+0800
TZOFFSETTO:+0800
TZNAME:Asia/Kuala_Lumpur +08
END:STANDARD
END:VTIMEZONE
BEGIN:VEVENT
UID:f52558503594ef783e8061217589ef5d
CATEGORIES:Oil & Gas
SUMMARY:Tank Storage Asia 2018
LOCATION:Marina Bay Sands, Singapore
DESCRIPTION;ENCODING=QUOTED-PRINTABLE:\n\n\n
CONTACT:FREE MAP DISTRIBUTION
DTSTAMP:20260421T083050Z
DTSTART;TZID=Asia/Kuala_Lumpur:20180926T080000
DTEND;TZID=Asia/Kuala_Lumpur:20180927T170000
SEQUENCE:0
TRANSP:OPAQUE
END:VEVENT
END:VCALENDAR