BEGIN:VCALENDAR
VERSION:2.0
PRODID:-//jEvents 2.0 for Joomla//EN
CALSCALE:GREGORIAN
METHOD:PUBLISH
BEGIN:VTIMEZONE
TZID:Asia/Kuala_Lumpur
BEGIN:STANDARD
DTSTART:20170319T080000
RDATE:20380119T111407
TZOFFSETFROM:+0800
TZOFFSETTO:+0800
TZNAME:Asia/Kuala_Lumpur +08
END:STANDARD
END:VTIMEZONE
BEGIN:VEVENT
UID:740208aaf5e69cb60f9ca0e0c1034baa
CATEGORIES:Oil & Gas
SUMMARY:OTC Asia 2018
LOCATION:Kuala Lumpur, Malaysia
DESCRIPTION;ENCODING=QUOTED-PRINTABLE:
CONTACT:FREE MAP DISTRIBUTION
X-EXTRAINFO:http://2018.otcasia.org/
DTSTAMP:20260421T083425Z
DTSTART;TZID=Asia/Kuala_Lumpur:20180320T080000
DTEND;TZID=Asia/Kuala_Lumpur:20180323T170000
SEQUENCE:0
TRANSP:OPAQUE
END:VEVENT
END:VCALENDAR