BEGIN:VCALENDAR
VERSION:2.0
PRODID:-//jEvents 2.0 for Joomla//EN
CALSCALE:GREGORIAN
METHOD:PUBLISH
BEGIN:VTIMEZONE
TZID:Asia/Kuala_Lumpur
BEGIN:STANDARD
DTSTART:20170211T080000
RDATE:20380119T111407
TZOFFSETFROM:+0800
TZOFFSETTO:+0800
TZNAME:Asia/Kuala_Lumpur +08
END:STANDARD
END:VTIMEZONE
BEGIN:VEVENT
UID:bfc9f0011f3a0f871ead0bc26b026ada
CATEGORIES:Oil & Gas
SUMMARY:Egypt Petroleum Show (EGYPS) 2018
LOCATION:EECA, Cairo, Egypt
DESCRIPTION;ENCODING=QUOTED-PRINTABLE:<p class="content">Returning to Cairo in its second edition from 12 - 14 Fe
 bruary 2018, the Egypt Petroleum Show (EGYPS) brings together the Egyptian 
 and North African government representatives, key project owners, NOCs and 
 IOCs, international service providers, EPC contractors, consultants and fin
 anciers to address the evolving opportunities in the Egyptian and North Afr
 ican energy arena.</p><p class="content">EGYPS 2018 provides the opportunit
 y to gain insights into the upcoming oil and gas opportunities in Egypt and
  North Africa, from future licensing rounds, project requirements to short 
 and long term strategic plans and priorities.</p>
CONTACT:FREE MAP DISTRIBUTION
X-EXTRAINFO:http://www.egyps.com/
DTSTAMP:20260421T084341Z
DTSTART;TZID=Asia/Kuala_Lumpur:20180212T080000
DTEND;TZID=Asia/Kuala_Lumpur:20180214T170000
SEQUENCE:0
TRANSP:OPAQUE
END:VEVENT
END:VCALENDAR