BEGIN:VCALENDAR
VERSION:2.0
PRODID:-//jEvents 2.0 for Joomla//EN
CALSCALE:GREGORIAN
METHOD:PUBLISH
BEGIN:VTIMEZONE
TZID:Asia/Kuala_Lumpur
BEGIN:STANDARD
DTSTART:20170611T080000
RDATE:20380119T111407
TZOFFSETFROM:+0800
TZOFFSETTO:+0800
TZNAME:Asia/Kuala_Lumpur +08
END:STANDARD
END:VTIMEZONE
BEGIN:VEVENT
UID:0ba5f1245faaa2277e68e582c6eb6c19
CATEGORIES:Oil & Gas
SUMMARY:2018 Global Petroleum Show
LOCATION:CALGARY, ALBERTA
DESCRIPTION;ENCODING=QUOTED-PRINTABLE:\n\nJoin more than 50,000 international and domestic oil & gas executives, 
 thought leaders, decision-makers, and influencers from thousands of compani
 es for the 50th anniversary of Global Petroleum Show June 12 – 14, 2018. Th
 e 50th show will feature special events and host some of the worlds top lea
 ders and influencers in government and industry.\n\n\nFor 50 years, GPS has
  been the international meeting place for the industry to introduce new tec
 hnologies, share ideas, meet new business colleagues, and do business toget
 her. Over this period, global industries have gone through significant tran
 sformations, and continue to transform and evolve and will for the foreseea
 ble future. Whether we come together to discuss new technologies and strate
 gies for oil & gas, renewables, or new energy sources not yet discovered, o
 ne thing is for sure, GPS continues to be the premier event where industry 
 professionals converge to learn and explore new and emerging opportunities.
 \n
CONTACT:FREE MAP DISTRIBUTION
X-EXTRAINFO:https://globalpetroleumshow.com/
DTSTAMP:20260421T083057Z
DTSTART;TZID=Asia/Kuala_Lumpur:20180612T080000
DTEND;TZID=Asia/Kuala_Lumpur:20180614T170000
SEQUENCE:0
TRANSP:OPAQUE
END:VEVENT
END:VCALENDAR